BEGIN:VCALENDAR
VERSION:2.0
PRODID:-//Laempe Mentoring - ECPv6.15.16//NONSGML v1.0//EN
CALSCALE:GREGORIAN
METHOD:PUBLISH
X-ORIGINAL-URL:https://business-schamane.com
X-WR-CALDESC:Veranstaltungen für Laempe Mentoring
REFRESH-INTERVAL;VALUE=DURATION:PT1H
X-Robots-Tag:noindex
X-PUBLISHED-TTL:PT1H
BEGIN:VTIMEZONE
TZID:Europe/Berlin
BEGIN:DAYLIGHT
TZOFFSETFROM:+0100
TZOFFSETTO:+0200
TZNAME:CEST
DTSTART:20230326T010000
END:DAYLIGHT
BEGIN:STANDARD
TZOFFSETFROM:+0200
TZOFFSETTO:+0100
TZNAME:CET
DTSTART:20231029T010000
END:STANDARD
BEGIN:DAYLIGHT
TZOFFSETFROM:+0100
TZOFFSETTO:+0200
TZNAME:CEST
DTSTART:20240331T010000
END:DAYLIGHT
BEGIN:STANDARD
TZOFFSETFROM:+0200
TZOFFSETTO:+0100
TZNAME:CET
DTSTART:20241027T010000
END:STANDARD
BEGIN:DAYLIGHT
TZOFFSETFROM:+0100
TZOFFSETTO:+0200
TZNAME:CEST
DTSTART:20250330T010000
END:DAYLIGHT
BEGIN:STANDARD
TZOFFSETFROM:+0200
TZOFFSETTO:+0100
TZNAME:CET
DTSTART:20251026T010000
END:STANDARD
BEGIN:DAYLIGHT
TZOFFSETFROM:+0100
TZOFFSETTO:+0200
TZNAME:CEST
DTSTART:20260329T010000
END:DAYLIGHT
BEGIN:STANDARD
TZOFFSETFROM:+0200
TZOFFSETTO:+0100
TZNAME:CET
DTSTART:20261025T010000
END:STANDARD
END:VTIMEZONE
BEGIN:VEVENT
DTSTART;TZID=Europe/Berlin:20250201T000000
DTEND;TZID=Europe/Berlin:20250208T235900
DTSTAMP:20260419T170243
CREATED:20240615T134327Z
LAST-MODIFIED:20241109T103750Z
UID:3276-1738368000-1739059140@business-schamane.com
SUMMARY:Esmeralda AI Retreat by Laempe
DESCRIPTION:Eintauchen in die Zukunft: Das Esmeralda Retreat\nUnter der Leitung von zwei renommierten Mentoren\, 5 Tage intensives Training zur Neuerfindung deines Business-Modells und Integration von Künstlicher Intelligenz. Zauberhafte Tage mit Carmen und Gerardo Laempe. \n \nMach das Unmögliche möglich: Das Esmeralda Retreat auf Zypern\nEntdecke das Esmeralda Retreat auf Zypern\, wo du von Carmen und Gerardo Laempe\, zwei echten Profis in den Bereichen energetisches Heilen und Business Development\, begleitet wirst. Du fragst dich\, was dich dort erwartet? \nStell dir vor\, du verbringst 5 fantastische Tage an einem Ort voller natürlicher Schönheit. In dieser Zeit entdeckst du nicht nur dich selbst auf einer ganz neuen Ebene\, sondern bekommst auch tolle Werkzeuge an die Hand\, um dein Business auf die nächste Stufe zu bringen. \nHier ein kleiner Vorgeschmack auf das\, was dich erwartet:\n– Individuelle Healing Sessions und Strategieentwicklung mit Carmen und Gerardo\, die dir den Turbo zünden\, um deine Pläne endlich in die Tat umzusetzen. Verabschiede dich von Prokrastination und halbherzigen Versuchen. \n– Aktiviere deine Kernkompetenzen und entwickle hochwertige Produkte. Lerne\, wie du mit deinem Know-how richtig Geld verdienen kannst. \n– Integriere künstliche Intelligenz und automatisiere deine Geschäftsprozesse\, damit du mehr Zeit für dich selbst hast und nicht ständig im Hamsterrad feststeckst. \n– Sofortige Maßnahmen zur Umsatzsteigerung umsetzen. Mit uns lernst du\, den Bullshit beiseite zu schieben und dich auf das zu konzentrieren\, was wirklich zählt. \n– Verbessere deinen Internetauftritt und deine Kundenakquise. Mit uns gewinnst du nicht nur Likes\, sondern echte\, zahlende Kunden. \n– Überarbeitung deines Geschäftskonzepts und Aufwertung deiner Marke. Deine Marke wird zum Magneten\, der die richtigen Leute anzieht. \n– Aufräumen in der 13. Dimension. \nKlingt nach Science Fiction\, ist aber eine unglaublich effektive Methode\, um innere Blockaden zu lösen und Platz für neues Wachstum zu schaffen. \nZusätzlich hast du die Chance\, die Insel Zypern zu entdecken. Du wirst nicht nur deine Business und Personal Skills auf das nächste Level bringen\, sondern auch ein Stück Kultur\, Geschichte und atemberaubende Natur erleben. \nMach dich bereit\, dich und dein Business neu zu erfinden. Dieses Retreat wird dein persönlicher und beruflicher Durchbruch sein. Lass dich von wahren Meistern ihres Fachs begleiten und vertraue auf die Kraft des Universums. \nKlingt gut? Dann sehen wir uns auf Zypern! \nÜberwinde deine Aufschieberitis\nErfolg hat einen Namen: Esmeralda Retreat.\nIn nur 5 Tagen geben dir unsere Mentoren die Werkzeuge an die Hand\, um dein Business zu transformieren und AI effektiv zu nutzen.\n\nDas Tor zu deiner Glückseligkeit
URL:https://business-schamane.com/event/esmeralda-retreat/
LOCATION:Larnaca\, Zypern
CATEGORIES:Retreat
ATTACH;FMTTYPE=image/jpeg:https://business-schamane.com/wp-content/uploads/AS-scaled-Zypern-Retreat.jpg
END:VEVENT
BEGIN:VEVENT
DTSTART;TZID=Europe/Berlin:20241202T110000
DTEND;TZID=Europe/Berlin:20241213T123000
DTSTAMP:20260419T170243
CREATED:20240704T124810Z
LAST-MODIFIED:20241109T103850Z
UID:3721-1733137200-1734093000@business-schamane.com
SUMMARY:Superpower KI Workshop. Online-Kurs von Gerardo Laempe
DESCRIPTION:Entfessle dein wahres Genie. Der Superpower Online-Kurs\, der dein Lebensplan verändert!\nTransformiere dein Business und Leben: Mit der Kraft der Sterne\, KI und deiner Intuition! \nDie Superpower-Woche ist ein bahnbrechendes Event\, das darauf abzielt\, deine inneren Kräfte zu entfesseln und dich auf deinem beruflichen und persönlichen Weg zu begleiten. In fünf faszinierenden Modulen erhältst du tiefe Einblicke und praktische Werkzeuge\, um deine Ziele zu erreichen und dein volles Potenzial zu entfalten. Hier ein kompakter Überblick über die Module: \nSeelencodierung: Dein Wegweiser zu deiner Bestimmung\nEntdecke deine Seelenaufgabe und deine Geniezone. Erforsche\, wozu du bestimmt bist und setze dir einzigartige Ziele\, um deinen wahren Lebensweg zu finden und deine Bestimmung zu leben. \nStärken stärken: Dein persönlicher Erfolgscode\nIdentifiziere und nutze deine zehn stärksten Eigenschaften\, um deine Aura zu stärken und deine Positionierung zu festigen. Dies hilft dir\, deine Rolle und den Sinn deiner Arbeit zu verstehen und dich klar zu positionieren. \nArchetypen-Avatar: Dein Charakter als Kompass\nErkenne deinen einzigartigen Archetyp und deine Kernwerte. Nutze dieses Wissen\, um deine idealen Kunden anzusprechen und deine Marke durch Storytelling zu stärken. \nKI Turbo: Dein KI Booster! Dein Schicksalsnavigator mit Missions Coach GPT\nNutze die KI\, KI-Marketing\, KI-First-Strategien\, GPT Bots\, Funnels\, Launches für deinen Business-Erfolg. \nIntuitiver und strategischer Umsetzer: Dein Handlungs-Aktivator\nEntwickle Vertrauen in deine Intuition und lerne innovative Methoden wie TRIZ im Coaching Business kennen. Nutze KI und Strategien für effektive Entscheidungen und nachhaltigen Erfolg. \nFür weitere Informationen und um dich anzumelden\, klicke hier:\nSuperpower und KI-Marketing \nMach dich bereit\, in diesem intensiven Online-Kurs mit Gerardo J. Laempe\, dein wahres Potenzial zu entdecken und deine Superpower zu entfalten! Der Grundstock für dein neues strategisches Geschäftsfeld (SGF)! \nLive AI Training siehe Laempe AI NAMPUS
URL:https://business-schamane.com/event/superpower/
LOCATION:Online\, Weltweit
CATEGORIES:Online-Event
ATTACH;FMTTYPE=image/jpeg:https://business-schamane.com/wp-content/uploads/NL-Superpower-Stark-sein-Gerardo-Laempe.jpg
END:VEVENT
BEGIN:VEVENT
DTSTART;TZID=Europe/Berlin:20241115T190000
DTEND;TZID=Europe/Berlin:20241115T203000
DTSTAMP:20260419T170243
CREATED:20231202T090530Z
LAST-MODIFIED:20241109T103940Z
UID:3387-1731697200-1731702600@business-schamane.com
SUMMARY:Transformations-Show per Zoom. Dimensionswechsel auf die neue Erde!
DESCRIPTION:Veranstaltungshinweis: Die Transformations- und Veränderungsshow \nDu bist bereit\, deinen Fokus zu schärfen und die eine Sache zu entdecken\, die dein Leben positiv verändern kann. Deine Superkraft zu aktivieren. Du bist bereit\, alte Gewohnheiten und Muster loszulassen\, um klare Schritte zu gehen\, die dir schnellere und bessere Ergebnisse bringen. Deine Expertise zu leben. Dann ist die Transformations & Change Show genau das Richtige für dich. \nJeden Donnerstag um 19 Uhr bieten wir dir eine Plattform\, auf der du neue Motivation und Lebensenergie tanken kannst. In unserer Online-Show führen wir die Teilnehmer\, insbesondere die Hot-Seat-Gäste\, durch einen inspirierenden Transformationsprozess. \nBegleitet wirst du dabei von den erfahrenen Coaches und Trainern Carmen und Gerardo Laempe. Carmen arbeitet als Medium und Heilerin energetisch in höheren Dimensionen und löst tief sitzende und vernetzte Blockaden und Traumata. Gerardo\, begeisterter Anwender von KI Strategien und exzellenter Strategieexperte\, anerkannter Business-Stratege und Strategieforscher\, bringt dein Thema\, dein Anliegen auf den Punkt. \nGemeinsam bieten wir dir eine glasklare Unternehmensstrategie und eine ganzheitliche Transformation. Erlebe dieses Zusammenspiel auf der Change & Transformation Show. \nDie Vorteile für dich: \n\nEchte Transformation: Erlebe eine gute und schnelle Veränderung in deinem Leben und Business.\nPersönliche Entwicklung: Entdecke und nutze dein volles Potential durch unsere individuelle Begleitung.\nNetzwerk und Inspiration: Tausche dich mit Gleichgesinnten aus und lass dich inspirieren.\nMit über 21.000 begeisterten Teilnehmern und tausenden Coaching-Klienten haben wir schon vielen Menschen geholfen\, ihr Leben positiv zu verändern.Nutze deine Chance und melde dich noch heute an. Die Plätze sind begehrt und die Teilnahme ist kostenlos.\n\nWir freuen uns auf dich! Jetzt oder nie. Melde dich noch heute an. Nutze deine Chance\, dein Leben positiv zu verändern. Wir sind bereit\, du auch? \nMelde dich hier kostenlos an: Transformations-Show \nEs ist an der Zeit\, dein Leben positiv zu verändern. Verändere dich wirklich! Dein Höheres Selbst hat ein enormes Potential. Es möchte feiern und wachsen. \nReserviere sofort deinen Platz zur Transformations- und Veränderungsshow. \nGerardo und Carmen Laempe werden mit euch eine Power Session und eine Gruppen Healing Session machen. Live via Zoom. \nDas Erlebnis von Gruppendynamik und Unterstützung: Die Gruppenheilungssitzung ermöglicht es den Teilnehmern\, in einem unterstützenden Umfeld zu lernen und zu wachsen. \nAneignung neuer Fähigkeiten\, Strategien und Techniken: Die Power Session bietet praktische Werkzeuge und Techniken\, die im Alltag angewendet werden können\, um Herausforderungen effektiver zu meistern. \nJeden Donnerstag um 19 Uhr führen wir dich durch einen Transformationsprozess\, der dir hilft\, alte Gewohnheiten loszulassen und klare Handlungsschritte zu setzen. \nHier kostenfrei anmelden: https://ur-schamanin.de/show/ \nEntdecke dein wahres Potenzial und Berufung – Starte deine Transformation am Donnerstag\, kostenfrei!
URL:https://business-schamane.com/event/transformations-show/
LOCATION:Online\, Weltweit
CATEGORIES:Online-Event
ATTACH;FMTTYPE=image/png:https://business-schamane.com/wp-content/uploads/Show-Gerardo-Carmen-Laempe.png
END:VEVENT
END:VCALENDAR